0.5
0
0
-0.5
7623437.5708
707472.6619
